BEGIN:VCALENDAR
VERSION:2.0
PRODID:-//Poplarville School District - ECPv6.15.20//NONSGML v1.0//EN
CALSCALE:GREGORIAN
METHOD:PUBLISH
X-ORIGINAL-URL:https://poplarvilleschools.org
X-WR-CALDESC:Events for Poplarville School District
REFRESH-INTERVAL;VALUE=DURATION:PT1H
X-Robots-Tag:noindex
X-PUBLISHED-TTL:PT1H
BEGIN:VTIMEZONE
TZID:America/Chicago
BEGIN:DAYLIGHT
TZOFFSETFROM:-0600
TZOFFSETTO:-0500
TZNAME:CDT
DTSTART:20230312T080000
END:DAYLIGHT
BEGIN:STANDARD
TZOFFSETFROM:-0500
TZOFFSETTO:-0600
TZNAME:CST
DTSTART:20231105T070000
END:STANDARD
BEGIN:DAYLIGHT
TZOFFSETFROM:-0600
TZOFFSETTO:-0500
TZNAME:CDT
DTSTART:20240310T080000
END:DAYLIGHT
BEGIN:STANDARD
TZOFFSETFROM:-0500
TZOFFSETTO:-0600
TZNAME:CST
DTSTART:20241103T070000
END:STANDARD
BEGIN:DAYLIGHT
TZOFFSETFROM:-0600
TZOFFSETTO:-0500
TZNAME:CDT
DTSTART:20250309T080000
END:DAYLIGHT
BEGIN:STANDARD
TZOFFSETFROM:-0500
TZOFFSETTO:-0600
TZNAME:CST
DTSTART:20251102T070000
END:STANDARD
BEGIN:DAYLIGHT
TZOFFSETFROM:-0600
TZOFFSETTO:-0500
TZNAME:CDT
DTSTART:20260308T080000
END:DAYLIGHT
BEGIN:STANDARD
TZOFFSETFROM:-0500
TZOFFSETTO:-0600
TZNAME:CST
DTSTART:20261101T070000
END:STANDARD
END:VTIMEZONE
BEGIN:VEVENT
DTSTART;VALUE=DATE:20251118
DTEND;VALUE=DATE:20251119
DTSTAMP:20260421T122003
CREATED:20251113T211345Z
LAST-MODIFIED:20251113T211527Z
UID:10000515-1763424000-1763510399@poplarvilleschools.org
SUMMARY:PLE Christmas Photos
DESCRIPTION:PLE Christmas Photos are on Tuesday\, November 18th\, with JP Blakeney Photography. The link to the order form shows the picture background. Students who are purchasing Christmas pictures may dress up for their pictures and may be out of uniform on this day.
URL:https://poplarvilleschools.org/event/ple-christmas-photos/
LOCATION:Poplarville Lower Elementary School\, 804 S Julia Street\, Poplarville\, MS\, 39470\, United States
CATEGORIES:PLE
ATTACH;FMTTYPE=image/jpeg:https://poplarvilleschools.org/wp-content/uploads/2025/11/PLE-Christmas-Pictures-scaled.jpg
END:VEVENT
BEGIN:VEVENT
DTSTART;TZID=America/Chicago:20240514T170000
DTEND;TZID=America/Chicago:20240514T190000
DTSTAMP:20260421T122003
CREATED:20240422T145727Z
LAST-MODIFIED:20240422T145727Z
UID:10000151-1715706000-1715713200@poplarvilleschools.org
SUMMARY:Kindergarten Registration Night
DESCRIPTION:Parents and their future kindergartener will view kindergarten classrooms. Parents will use the registration code (provided that night to those who complete this form) to complete Poplarville School District’s actual registration process. Also\, on this night\, parents will get all of the information that they will need for the start of school. This will be a VERY important night for this reason!
URL:https://poplarvilleschools.org/event/kindergarten-registration-night/
LOCATION:Poplarville Lower Elementary School\, 804 S Julia Street\, Poplarville\, MS\, 39470\, United States
CATEGORIES:PLE
END:VEVENT
BEGIN:VEVENT
DTSTART;TZID=America/Chicago:20240426T093000
DTEND;TZID=America/Chicago:20240426T093000
DTSTAMP:20260421T122003
CREATED:20240422T144102Z
LAST-MODIFIED:20240422T144102Z
UID:10000148-1714123800-1714123800@poplarvilleschools.org
SUMMARY:PLE Book Parade
DESCRIPTION:
URL:https://poplarvilleschools.org/event/ple-book-parade-2/
LOCATION:Poplarville Lower Elementary School\, 804 S Julia Street\, Poplarville\, MS\, 39470\, United States
CATEGORIES:PLE
END:VEVENT
END:VCALENDAR