BEGIN:VCALENDAR
VERSION:2.0
PRODID:-//Poplarville School District - ECPv6.15.20//NONSGML v1.0//EN
CALSCALE:GREGORIAN
METHOD:PUBLISH
X-WR-CALNAME:Poplarville School District
X-ORIGINAL-URL:https://poplarvilleschools.org
X-WR-CALDESC:Events for Poplarville School District
REFRESH-INTERVAL;VALUE=DURATION:PT1H
X-Robots-Tag:noindex
X-PUBLISHED-TTL:PT1H
BEGIN:VTIMEZONE
TZID:America/Chicago
BEGIN:DAYLIGHT
TZOFFSETFROM:-0600
TZOFFSETTO:-0500
TZNAME:CDT
DTSTART:20230312T080000
END:DAYLIGHT
BEGIN:STANDARD
TZOFFSETFROM:-0500
TZOFFSETTO:-0600
TZNAME:CST
DTSTART:20231105T070000
END:STANDARD
BEGIN:DAYLIGHT
TZOFFSETFROM:-0600
TZOFFSETTO:-0500
TZNAME:CDT
DTSTART:20240310T080000
END:DAYLIGHT
BEGIN:STANDARD
TZOFFSETFROM:-0500
TZOFFSETTO:-0600
TZNAME:CST
DTSTART:20241103T070000
END:STANDARD
BEGIN:DAYLIGHT
TZOFFSETFROM:-0600
TZOFFSETTO:-0500
TZNAME:CDT
DTSTART:20250309T080000
END:DAYLIGHT
BEGIN:STANDARD
TZOFFSETFROM:-0500
TZOFFSETTO:-0600
TZNAME:CST
DTSTART:20251102T070000
END:STANDARD
BEGIN:DAYLIGHT
TZOFFSETFROM:-0600
TZOFFSETTO:-0500
TZNAME:CDT
DTSTART:20260308T080000
END:DAYLIGHT
BEGIN:STANDARD
TZOFFSETFROM:-0500
TZOFFSETTO:-0600
TZNAME:CST
DTSTART:20261101T070000
END:STANDARD
END:VTIMEZONE
BEGIN:VEVENT
DTSTART;VALUE=DATE:20250211
DTEND;VALUE=DATE:20250212
DTSTAMP:20260423T034927
CREATED:20250131T155338Z
LAST-MODIFIED:20250131T155338Z
UID:10000310-1739232000-1739318399@poplarvilleschools.org
SUMMARY:PHS Baseball vs North Pike
DESCRIPTION:
URL:https://poplarvilleschools.org/event/phs-baseball-vs-north-pike/
LOCATION:Poplarville High School\, 1 Hornet Drive\, Poplarville\, MS\, 39470\, United States
CATEGORIES:PHS,Sports
END:VEVENT
BEGIN:VEVENT
DTSTART;VALUE=DATE:20250208
DTEND;VALUE=DATE:20250209
DTSTAMP:20260423T034927
CREATED:20250131T155131Z
LAST-MODIFIED:20250131T155234Z
UID:10000309-1738972800-1739059199@poplarvilleschools.org
SUMMARY:PHS Baseball vs George County/West Jones
DESCRIPTION:Jamboree Game
URL:https://poplarvilleschools.org/event/phs-baseball-vs-george-county/
LOCATION:Poplarville High School\, 1 Hornet Drive\, Poplarville\, MS\, 39470\, United States
CATEGORIES:PHS,Sports
END:VEVENT
BEGIN:VEVENT
DTSTART;VALUE=DATE:20240514
DTEND;VALUE=DATE:20240519
DTSTAMP:20260423T034927
CREATED:20240208T201856Z
LAST-MODIFIED:20240208T201856Z
UID:10000141-1715644800-1716076799@poplarvilleschools.org
SUMMARY:Lady Hornets Softball
DESCRIPTION:State \nTime TBA \n14-18 \nDivision Game
URL:https://poplarvilleschools.org/event/lady-hornets-softball-24/
LOCATION:Poplarville High School\, 1 Hornet Drive\, Poplarville\, MS\, 39470\, United States
END:VEVENT
BEGIN:VEVENT
DTSTART;VALUE=DATE:20240509
DTEND;VALUE=DATE:20240512
DTSTAMP:20260423T034927
CREATED:20240208T201755Z
LAST-MODIFIED:20240208T201755Z
UID:10000140-1715212800-1715471999@poplarvilleschools.org
SUMMARY:Lady Hornets Softball
DESCRIPTION:South State \nTime TBA \nDates: 9/10/11 \nDivision Game
URL:https://poplarvilleschools.org/event/lady-hornets-softball-23/
LOCATION:Poplarville High School\, 1 Hornet Drive\, Poplarville\, MS\, 39470\, United States
END:VEVENT
BEGIN:VEVENT
DTSTART;VALUE=DATE:20240503
DTEND;VALUE=DATE:20240504
DTSTAMP:20260423T034927
CREATED:20240208T201548Z
LAST-MODIFIED:20240208T201548Z
UID:10000138-1714694400-1714780799@poplarvilleschools.org
SUMMARY:Lady Hornets Softball
DESCRIPTION:3rd RD. Playoffs \nTime TBA \nDates: 3/4/6 \nDivision Game
URL:https://poplarvilleschools.org/event/lady-hornets-softball-22/
LOCATION:Poplarville High School\, 1 Hornet Drive\, Poplarville\, MS\, 39470\, United States
END:VEVENT
BEGIN:VEVENT
DTSTART;VALUE=DATE:20240426
DTEND;VALUE=DATE:20240427
DTSTAMP:20260423T034927
CREATED:20240208T201405Z
LAST-MODIFIED:20240208T201607Z
UID:10000139-1714089600-1714175999@poplarvilleschools.org
SUMMARY:Lady Hornets Softball
DESCRIPTION:2nd RD. Playoffs \nTime TBA \nDates: 26/27/29 \nDivision Game
URL:https://poplarvilleschools.org/event/lady-hornets-softball-21/
LOCATION:Poplarville High School\, 1 Hornet Drive\, Poplarville\, MS\, 39470\, United States
END:VEVENT
END:VCALENDAR