BEGIN:VCALENDAR
VERSION:2.0
PRODID:-//Poplarville School District - ECPv6.15.20//NONSGML v1.0//EN
CALSCALE:GREGORIAN
METHOD:PUBLISH
X-WR-CALNAME:Poplarville School District
X-ORIGINAL-URL:https://poplarvilleschools.org
X-WR-CALDESC:Events for Poplarville School District
REFRESH-INTERVAL;VALUE=DURATION:PT1H
X-Robots-Tag:noindex
X-PUBLISHED-TTL:PT1H
BEGIN:VTIMEZONE
TZID:America/Chicago
BEGIN:DAYLIGHT
TZOFFSETFROM:-0600
TZOFFSETTO:-0500
TZNAME:CDT
DTSTART:20240310T080000
END:DAYLIGHT
BEGIN:STANDARD
TZOFFSETFROM:-0500
TZOFFSETTO:-0600
TZNAME:CST
DTSTART:20241103T070000
END:STANDARD
BEGIN:DAYLIGHT
TZOFFSETFROM:-0600
TZOFFSETTO:-0500
TZNAME:CDT
DTSTART:20250309T080000
END:DAYLIGHT
BEGIN:STANDARD
TZOFFSETFROM:-0500
TZOFFSETTO:-0600
TZNAME:CST
DTSTART:20251102T070000
END:STANDARD
BEGIN:DAYLIGHT
TZOFFSETFROM:-0600
TZOFFSETTO:-0500
TZNAME:CDT
DTSTART:20260308T080000
END:DAYLIGHT
BEGIN:STANDARD
TZOFFSETFROM:-0500
TZOFFSETTO:-0600
TZNAME:CST
DTSTART:20261101T070000
END:STANDARD
BEGIN:DAYLIGHT
TZOFFSETFROM:-0600
TZOFFSETTO:-0500
TZNAME:CDT
DTSTART:20270314T080000
END:DAYLIGHT
BEGIN:STANDARD
TZOFFSETFROM:-0500
TZOFFSETTO:-0600
TZNAME:CST
DTSTART:20271107T070000
END:STANDARD
END:VTIMEZONE
BEGIN:VEVENT
DTSTART;VALUE=DATE:20251215
DTEND;VALUE=DATE:20260103
DTSTAMP:20260424T140419
CREATED:20250617T130802Z
LAST-MODIFIED:20250617T130802Z
UID:10000367-1765756800-1767398399@poplarvilleschools.org
SUMMARY:Christmas Break
DESCRIPTION:
URL:https://poplarvilleschools.org/event/christmas-break-3/
CATEGORIES:CDC,Holidays,MSP,PHS,PLE,PUE,Sports
END:VEVENT
BEGIN:VEVENT
DTSTART;VALUE=DATE:20260105
DTEND;VALUE=DATE:20260106
DTSTAMP:20260424T140419
CREATED:20250617T130844Z
LAST-MODIFIED:20250617T130844Z
UID:10000368-1767571200-1767657599@poplarvilleschools.org
SUMMARY:Teachers Return
DESCRIPTION:
URL:https://poplarvilleschools.org/event/teachers-return/
CATEGORIES:CDC,Holidays,MSP,PHS,PLE,PUE,Sports
END:VEVENT
BEGIN:VEVENT
DTSTART;VALUE=DATE:20260106
DTEND;VALUE=DATE:20260107
DTSTAMP:20260424T140419
CREATED:20250617T130926Z
LAST-MODIFIED:20250617T130926Z
UID:10000369-1767657600-1767743999@poplarvilleschools.org
SUMMARY:Students Return
DESCRIPTION:
URL:https://poplarvilleschools.org/event/students-return-2/
CATEGORIES:CDC,Holidays,MSP,PHS,PLE,PUE,Sports
END:VEVENT
BEGIN:VEVENT
DTSTART;VALUE=DATE:20260106
DTEND;VALUE=DATE:20260107
DTSTAMP:20260424T140419
CREATED:20250617T130953Z
LAST-MODIFIED:20250617T130953Z
UID:10000370-1767657600-1767743999@poplarvilleschools.org
SUMMARY:Report Card #2
DESCRIPTION:
URL:https://poplarvilleschools.org/event/report-card-2-2/
CATEGORIES:CDC,MSP,PHS,PLE,PUE,Sports
END:VEVENT
BEGIN:VEVENT
DTSTART;VALUE=DATE:20260119
DTEND;VALUE=DATE:20260120
DTSTAMP:20260424T140419
CREATED:20250617T131233Z
LAST-MODIFIED:20250617T131233Z
UID:10000371-1768780800-1768867199@poplarvilleschools.org
SUMMARY:Martin Luther King Jr. Holiday
DESCRIPTION:
URL:https://poplarvilleschools.org/event/martin-luther-king-jr-holiday/
CATEGORIES:CDC,Holidays,MSP,PHS,PLE,PUE,Sports
END:VEVENT
END:VCALENDAR