BEGIN:VCALENDAR
VERSION:2.0
PRODID:-//Poplarville School District - ECPv6.15.20//NONSGML v1.0//EN
CALSCALE:GREGORIAN
METHOD:PUBLISH
X-ORIGINAL-URL:https://poplarvilleschools.org
X-WR-CALDESC:Events for Poplarville School District
REFRESH-INTERVAL;VALUE=DURATION:PT1H
X-Robots-Tag:noindex
X-PUBLISHED-TTL:PT1H
BEGIN:VTIMEZONE
TZID:America/Chicago
BEGIN:DAYLIGHT
TZOFFSETFROM:-0600
TZOFFSETTO:-0500
TZNAME:CDT
DTSTART:20240310T080000
END:DAYLIGHT
BEGIN:STANDARD
TZOFFSETFROM:-0500
TZOFFSETTO:-0600
TZNAME:CST
DTSTART:20241103T070000
END:STANDARD
BEGIN:DAYLIGHT
TZOFFSETFROM:-0600
TZOFFSETTO:-0500
TZNAME:CDT
DTSTART:20250309T080000
END:DAYLIGHT
BEGIN:STANDARD
TZOFFSETFROM:-0500
TZOFFSETTO:-0600
TZNAME:CST
DTSTART:20251102T070000
END:STANDARD
BEGIN:DAYLIGHT
TZOFFSETFROM:-0600
TZOFFSETTO:-0500
TZNAME:CDT
DTSTART:20260308T080000
END:DAYLIGHT
BEGIN:STANDARD
TZOFFSETFROM:-0500
TZOFFSETTO:-0600
TZNAME:CST
DTSTART:20261101T070000
END:STANDARD
BEGIN:DAYLIGHT
TZOFFSETFROM:-0600
TZOFFSETTO:-0500
TZNAME:CDT
DTSTART:20270314T080000
END:DAYLIGHT
BEGIN:STANDARD
TZOFFSETFROM:-0500
TZOFFSETTO:-0600
TZNAME:CST
DTSTART:20271107T070000
END:STANDARD
END:VTIMEZONE
BEGIN:VEVENT
DTSTART;VALUE=DATE:20251201
DTEND;VALUE=DATE:20251202
DTSTAMP:20260424T140936
CREATED:20250617T130620Z
LAST-MODIFIED:20250617T130620Z
UID:10000365-1764547200-1764633599@poplarvilleschools.org
SUMMARY:Everyone Returns
DESCRIPTION:
URL:https://poplarvilleschools.org/event/everyone-returns-9/
CATEGORIES:CDC,Holidays,MSP,PHS,PLE,PUE,Sports
END:VEVENT
BEGIN:VEVENT
DTSTART;TZID=America/Chicago:20251208T190000
DTEND;TZID=America/Chicago:20251208T190000
DTSTAMP:20260424T140936
CREATED:20251021T162507Z
LAST-MODIFIED:20251021T162507Z
UID:10000440-1765220400-1765220400@poplarvilleschools.org
SUMMARY:Christmas Spectacular: The Greatest Gift
DESCRIPTION: 𝙋𝙤𝙥𝙡𝙖𝙧𝙫𝙞𝙡𝙡𝙚 𝙎𝙘𝙝𝙤𝙤𝙡 𝘿𝙞𝙨𝙩𝙧𝙞𝙘𝙩 𝘾𝙝𝙧𝙞𝙨𝙩𝙢𝙖𝙨 𝙎𝙥𝙚𝙘𝙩𝙖𝙘𝙪𝙡𝙖𝙧: 𝙏𝙝𝙚 𝙂𝙧𝙚𝙖𝙩𝙚𝙨𝙩 𝙂𝙞𝙛𝙩 It’s the most wonderful time of the year and this year it’s bigger than ever! The Spectacular will be a two-day event filled with holiday magic\, incredible performances\, and Christmas cheer you won’t want to miss! Grab your tickets now at gofan.co before they’re gone — this show has sold out in the past! Don’t wait to start planning your festive night out. You will leave with full hearts\, smiling faces\, and a little extra Christmas spirit!
URL:https://poplarvilleschools.org/event/christmas-spectacular-the-greatest-gift/
LOCATION:Brownstone Center for the Arts – Pearl River Community College\, 101 US-11\, Poplarville\, MS\, 39470\, United States
CATEGORIES:CDC,Holidays,MSP,PHS
ATTACH;FMTTYPE=image/jpeg:https://poplarvilleschools.org/wp-content/uploads/2025/10/Christmas.jpg
END:VEVENT
BEGIN:VEVENT
DTSTART;TZID=America/Chicago:20251209T190000
DTEND;TZID=America/Chicago:20251209T190000
DTSTAMP:20260424T140937
CREATED:20251021T162626Z
LAST-MODIFIED:20251021T162626Z
UID:10000441-1765306800-1765306800@poplarvilleschools.org
SUMMARY:Christmas Spectacular: The Greatest Gift
DESCRIPTION: 𝙋𝙤𝙥𝙡𝙖𝙧𝙫𝙞𝙡𝙡𝙚 𝙎𝙘𝙝𝙤𝙤𝙡 𝘿𝙞𝙨𝙩𝙧𝙞𝙘𝙩 𝘾𝙝𝙧𝙞𝙨𝙩𝙢𝙖𝙨 𝙎𝙥𝙚𝙘𝙩𝙖𝙘𝙪𝙡𝙖𝙧: 𝙏𝙝𝙚 𝙂𝙧𝙚𝙖𝙩𝙚𝙨𝙩 𝙂𝙞𝙛𝙩 It’s the most wonderful time of the year and this year it’s bigger than ever! The Spectacular will be a two-day event filled with holiday magic\, incredible performances\, and Christmas cheer you won’t want to miss! Grab your tickets now at gofan.co before they’re gone — this show has sold out in the past! Don’t wait to start planning your festive night out. You will leave with full hearts\, smiling faces\, and a little extra Christmas spirit!
URL:https://poplarvilleschools.org/event/christmas-spectacular-the-greatest-gift-2/
LOCATION:Brownstone Center for the Arts – Pearl River Community College\, 101 US-11\, Poplarville\, MS\, 39470\, United States
CATEGORIES:CDC,Holidays,MSP,PHS
ATTACH;FMTTYPE=image/jpeg:https://poplarvilleschools.org/wp-content/uploads/2025/10/Christmas.jpg
END:VEVENT
BEGIN:VEVENT
DTSTART;VALUE=DATE:20251212
DTEND;VALUE=DATE:20251213
DTSTAMP:20260424T140937
CREATED:20250617T130655Z
LAST-MODIFIED:20251204T212424Z
UID:10000366-1765497600-1765583999@poplarvilleschools.org
SUMMARY:60% Day For Students
DESCRIPTION:
URL:https://poplarvilleschools.org/event/60-day-for-students-3/
CATEGORIES:CDC,Holidays,MSP,PHS,PLE,PUE,Sports
ATTACH;FMTTYPE=image/jpeg:https://poplarvilleschools.org/wp-content/uploads/2025/06/Early-Release-Times-December-12-2025.jpg
END:VEVENT
BEGIN:VEVENT
DTSTART;VALUE=DATE:20251215
DTEND;VALUE=DATE:20260103
DTSTAMP:20260424T140937
CREATED:20250617T130802Z
LAST-MODIFIED:20250617T130802Z
UID:10000367-1765756800-1767398399@poplarvilleschools.org
SUMMARY:Christmas Break
DESCRIPTION:
URL:https://poplarvilleschools.org/event/christmas-break-3/
CATEGORIES:CDC,Holidays,MSP,PHS,PLE,PUE,Sports
END:VEVENT
END:VCALENDAR